{"text_format":"1","workbook":"xlsx","n_sheets":3,"sheets":["Lycées","JG","JF"],"not_rendered":{"charts":0,"images":1,"macros":0,"external_links":1,"defined_names":6,"comments":0,"pivot_tables":0},"unopened":[],"bounds":{"document_bytes":16777216,"sheet_cells":100000,"rows_first":2000,"rows_last":500,"rows_between":2000,"halvings":0,"cell_chars":16384,"cell_head_chars":4096},"cells_cut":0,"cells_raw":0,"read":"whole","date_system":"1900"}

{"sheet":"Lycées","index":0,"n_rows":30,"n_cols":11,"rows_kept":30,"cut":false,"hidden":false,"merged":[]}
["Challenge Lycée",null,null,null,null,null,null,"CHAMPIONNAT LASEL GYM OPEN   "]
["Lycée","Nbr élèves","JG","JF","Champions","Points JG","RANG JG","Points JF","RANG JF"]
["LTMAL",{"$f":"IF(Lycées!$A3=\"\",\"\",SUM(Lycées!$C3,Lycées!$D3))","v":2},{"$f":"IF(COUNTIF(JG!$D$4:$D$178,Lycées!$A3)=0,\"\",COUNTIF(JG!$D$4:$D$178,Lycées!$A3))","v":1},{"$f":"IF(COUNTIF(JF!$D$4:$D$647,Lycées!A3)=0,\"\",COUNTIF(JF!$D$4:$D$647,Lycées!A3))","v":1},{"$f":"IF(Lycées!$A3=\"\",\"\",((COUNTIFS(JG!$D$4:$D$178,Lycées!$A3,JG!$L$4:$L$178,\"1\")+COUNTIFS(JF!$D$4:$D$647,Lycées!$A3,JF!$L$4:$L$647,\"1\"))))","v":1},{"$f":"IF((B3=\"\"),\"\",SUMIFS(JG!$N$4:$N$178,JG!$D$4:$D$178,Lycées!$A3))","v":2},{"$f":"IF(Lycées!$F3=\"\",\"\",RANK(Lycées!$F$3:$F$30,Lycées!$F$3:$F$30,0))","v":8},{"$f":"IF(B3=\"\",\"\",SUMIFS(JF!$N$4:$N$647,JF!$D$4:$D$647,Lycées!$A3))","v":3},{"$f":"IF(Lycées!$D3=\"\",\"\",RANK(Lycées!$H$3:$H$30,Lycées!$H$3:$H$30,0))","v":6},null,"Hei gi just d'Lycéeën agedroen. De Rescht  fëllt sech vum selwen"]
["ALR",{"$f":"IF(Lycées!$A4=\"\",\"\",SUM(Lycées!$C4,Lycées!$D4))","v":9},{"$f":"IF(COUNTIF(JG!$D$4:$D$178,Lycées!$A4)=0,\"\",COUNTIF(JG!$D$4:$D$178,Lycées!$A4))","v":1},{"$f":"IF(COUNTIF(JF!$D$4:$D$647,Lycées!A4)=0,\"\",COUNTIF(JF!$D$4:$D$647,Lycées!A4))","v":8},{"$f":"IF(Lycées!$A4=\"\",\"\",((COUNTIFS(JG!$D$4:$D$178,Lycées!$A4,JG!$L$4:$L$178,\"1\")+COUNTIFS(JF!$D$4:$D$647,Lycées!$A4,JF!$L$4:$L$647,\"1\"))))","v":4},{"$f":"IF((B4=\"\"),\"\",SUMIFS(JG!$N$4:$N$178,JG!$D$4:$D$178,Lycées!$A4))","v":3},{"$f":"IF(Lycées!$F4=\"\",\"\",RANK(Lycées!$F$3:$F$30,Lycées!$F$3:$F$30,0))","v":4},{"$f":"IF(B4=\"\",\"\",SUMIFS(JF!$N$4:$N$647,JF!$D$4:$D$647,Lycées!$A4))","v":11},{"$f":"IF(Lycées!$D4=\"\",\"\",RANK(Lycées!$H$3:$H$30,Lycées!$H$3:$H$30,0))","v":1}]
["LGE",{"$f":"IF(Lycées!$A5=\"\",\"\",SUM(Lycées!$C5,Lycées!$D5))","v":6},{"$f":"IF(COUNTIF(JG!$D$4:$D$178,Lycées!$A5)=0,\"\",COUNTIF(JG!$D$4:$D$178,Lycées!$A5))","v":""},{"$f":"IF(COUNTIF(JF!$D$4:$D$647,Lycées!A5)=0,\"\",COUNTIF(JF!$D$4:$D$647,Lycées!A5))","v":6},{"$f":"IF(Lycées!$A5=\"\",\"\",((COUNTIFS(JG!$D$4:$D$178,Lycées!$A5,JG!$L$4:$L$178,\"1\")+COUNTIFS(JF!$D$4:$D$647,Lycées!$A5,JF!$L$4:$L$647,\"1\"))))","v":0},{"$f":"IF((B5=\"\"),\"\",SUMIFS(JG!$N$4:$N$178,JG!$D$4:$D$178,Lycées!$A5))","v":0},{"$f":"IF(Lycées!$F5=\"\",\"\",RANK(Lycées!$F$3:$F$30,Lycées!$F$3:$F$30,0))","v":9},{"$f":"IF(B5=\"\",\"\",SUMIFS(JF!$N$4:$N$647,JF!$D$4:$D$647,Lycées!$A5))","v":0},{"$f":"IF(Lycées!$D5=\"\",\"\",RANK(Lycées!$H$3:$H$30,Lycées!$H$3:$H$30,0))","v":10}]
["LHCE",{"$f":"IF(Lycées!$A6=\"\",\"\",SUM(Lycées!$C6,Lycées!$D6))","v":9},{"$f":"IF(COUNTIF(JG!$D$4:$D$178,Lycées!$A6)=0,\"\",COUNTIF(JG!$D$4:$D$178,Lycées!$A6))","v":3},{"$f":"IF(COUNTIF(JF!$D$4:$D$647,Lycées!A6)=0,\"\",COUNTIF(JF!$D$4:$D$647,Lycées!A6))","v":6},{"$f":"IF(Lycées!$A6=\"\",\"\",((COUNTIFS(JG!$D$4:$D$178,Lycées!$A6,JG!$L$4:$L$178,\"1\")+COUNTIFS(JF!$D$4:$D$647,Lycées!$A6,JF!$L$4:$L$647,\"1\"))))","v":3},{"$f":"IF((B6=\"\"),\"\",SUMIFS(JG!$N$4:$N$178,JG!$D$4:$D$178,Lycées!$A6))","v":7},{"$f":"IF(Lycées!$F6=\"\",\"\",RANK(Lycées!$F$3:$F$30,Lycées!$F$3:$F$30,0))","v":1},{"$f":"IF(B6=\"\",\"\",SUMIFS(JF!$N$4:$N$647,JF!$D$4:$D$647,Lycées!$A6))","v":8},{"$f":"IF(Lycées!$D6=\"\",\"\",RANK(Lycées!$H$3:$H$30,Lycées!$H$3:$H$30,0))","v":2}]
["EPFL",{"$f":"IF(Lycées!$A7=\"\",\"\",SUM(Lycées!$C7,Lycées!$D7))","v":0},{"$f":"IF(COUNTIF(JG!$D$4:$D$178,Lycées!$A7)=0,\"\",COUNTIF(JG!$D$4:$D$178,Lycées!$A7))","v":""},{"$f":"IF(COUNTIF(JF!$D$4:$D$647,Lycées!A7)=0,\"\",COUNTIF(JF!$D$4:$D$647,Lycées!A7))","v":""},{"$f":"IF(Lycées!$A7=\"\",\"\",((COUNTIFS(JG!$D$4:$D$178,Lycées!$A7,JG!$L$4:$L$178,\"1\")+COUNTIFS(JF!$D$4:$D$647,Lycées!$A7,JF!$L$4:$L$647,\"1\"))))","v":0},{"$f":"IF((B7=\"\"),\"\",SUMIFS(JG!$N$4:$N$178,JG!$D$4:$D$178,Lycées!$A7))","v":0},{"$f":"IF(Lycées!$F7=\"\",\"\",RANK(Lycées!$F$3:$F$30,Lycées!$F$3:$F$30,0))","v":9},{"$f":"IF(B7=\"\",\"\",SUMIFS(JF!$N$4:$N$647,JF!$D$4:$D$647,Lycées!$A7))","v":0},{"$f":"IF(Lycées!$D7=\"\",\"\",RANK(Lycées!$H$3:$H$30,Lycées!$H$3:$H$30,0))","v":""}]
["LAML",{"$f":"IF(Lycées!$A8=\"\",\"\",SUM(Lycées!$C8,Lycées!$D8))","v":9},{"$f":"IF(COUNTIF(JG!$D$4:$D$178,Lycées!$A8)=0,\"\",COUNTIF(JG!$D$4:$D$178,Lycées!$A8))","v":3},{"$f":"IF(COUNTIF(JF!$D$4:$D$647,Lycées!A8)=0,\"\",COUNTIF(JF!$D$4:$D$647,Lycées!A8))","v":6},{"$f":"IF(Lycées!$A8=\"\",\"\",((COUNTIFS(JG!$D$4:$D$178,Lycées!$A8,JG!$L$4:$L$178,\"1\")+COUNTIFS(JF!$D$4:$D$647,Lycées!$A8,JF!$L$4:$L$647,\"1\"))))","v":0},{"$f":"IF((B8=\"\"),\"\",SUMIFS(JG!$N$4:$N$178,JG!$D$4:$D$178,Lycées!$A8))","v":3},{"$f":"IF(Lycées!$F8=\"\",\"\",RANK(Lycées!$F$3:$F$30,Lycées!$F$3:$F$30,0))","v":4},{"$f":"IF(B8=\"\",\"\",SUMIFS(JF!$N$4:$N$647,JF!$D$4:$D$647,Lycées!$A8))","v":0},{"$f":"IF(Lycées!$D8=\"\",\"\",RANK(Lycées!$H$3:$H$30,Lycées!$H$3:$H$30,0))","v":10}]
["LTL",{"$f":"IF(Lycées!$A9=\"\",\"\",SUM(Lycées!$C9,Lycées!$D9))","v":8},{"$f":"IF(COUNTIF(JG!$D$4:$D$178,Lycées!$A9)=0,\"\",COUNTIF(JG!$D$4:$D$178,Lycées!$A9))","v":3},{"$f":"IF(COUNTIF(JF!$D$4:$D$647,Lycées!A9)=0,\"\",COUNTIF(JF!$D$4:$D$647,Lycées!A9))","v":5},{"$f":"IF(Lycées!$A9=\"\",\"\",((COUNTIFS(JG!$D$4:$D$178,Lycées!$A9,JG!$L$4:$L$178,\"1\")+COUNTIFS(JF!$D$4:$D$647,Lycées!$A9,JF!$L$4:$L$647,\"1\"))))","v":3},{"$f":"IF((B9=\"\"),\"\",SUMIFS(JG!$N$4:$N$178,JG!$D$4:$D$178,Lycées!$A9))","v":5},{"$f":"IF(Lycées!$F9=\"\",\"\",RANK(Lycées!$F$3:$F$30,Lycées!$F$3:$F$30,0))","v":2},{"$f":"IF(B9=\"\",\"\",SUMIFS(JF!$N$4:$N$647,JF!$D$4:$D$647,Lycées!$A9))","v":8},{"$f":"IF(Lycées!$D9=\"\",\"\",RANK(Lycées!$H$3:$H$30,Lycées!$H$3:$H$30,0))","v":2}]
["LGL",{"$f":"IF(Lycées!$A10=\"\",\"\",SUM(Lycées!$C10,Lycées!$D10))","v":8},{"$f":"IF(COUNTIF(JG!$D$4:$D$178,Lycées!$A10)=0,\"\",COUNTIF(JG!$D$4:$D$178,Lycées!$A10))","v":""},{"$f":"IF(COUNTIF(JF!$D$4:$D$647,Lycées!A10)=0,\"\",COUNTIF(JF!$D$4:$D$647,Lycées!A10))","v":8},{"$f":"IF(Lycées!$A10=\"\",\"\",((COUNTIFS(JG!$D$4:$D$178,Lycées!$A10,JG!$L$4:$L$178,\"1\")+COUNTIFS(JF!$D$4:$D$647,Lycées!$A10,JF!$L$4:$L$647,\"1\"))))","v":0},{"$f":"IF((B10=\"\"),\"\",SUMIFS(JG!$N$4:$N$178,JG!$D$4:$D$178,Lycées!$A10))","v":0},{"$f":"IF(Lycées!$F10=\"\",\"\",RANK(Lycées!$F$3:$F$30,Lycées!$F$3:$F$30,0))","v":9},{"$f":"IF(B10=\"\",\"\",SUMIFS(JF!$N$4:$N$647,JF!$D$4:$D$647,Lycées!$A10))","v":1},{"$f":"IF(Lycées!$D10=\"\",\"\",RANK(Lycées!$H$3:$H$30,Lycées!$H$3:$H$30,0))","v":7}]
["LTB",{"$f":"IF(Lycées!$A11=\"\",\"\",SUM(Lycées!$C11,Lycées!$D11))","v":0},{"$f":"IF(COUNTIF(JG!$D$4:$D$178,Lycées!$A11)=0,\"\",COUNTIF(JG!$D$4:$D$178,Lycées!$A11))","v":""},{"$f":"IF(COUNTIF(JF!$D$4:$D$647,Lycées!A11)=0,\"\",COUNTIF(JF!$D$4:$D$647,Lycées!A11))","v":""},{"$f":"IF(Lycées!$A11=\"\",\"\",((COUNTIFS(JG!$D$4:$D$178,Lycées!$A11,JG!$L$4:$L$178,\"1\")+COUNTIFS(JF!$D$4:$D$647,Lycées!$A11,JF!$L$4:$L$647,\"1\"))))","v":0},{"$f":"IF((B11=\"\"),\"\",SUMIFS(JG!$N$4:$N$178,JG!$D$4:$D$178,Lycées!$A11))","v":0},{"$f":"IF(Lycées!$F11=\"\",\"\",RANK(Lycées!$F$3:$F$30,Lycées!$F$3:$F$30,0))","v":9},{"$f":"IF(B11=\"\",\"\",SUMIFS(JF!$N$4:$N$647,JF!$D$4:$D$647,Lycées!$A11))","v":0},{"$f":"IF(Lycées!$D11=\"\",\"\",RANK(Lycées!$H$3:$H$30,Lycées!$H$3:$H$30,0))","v":""}]
["LTAM",{"$f":"IF(Lycées!$A12=\"\",\"\",SUM(Lycées!$C12,Lycées!$D12))","v":0},{"$f":"IF(COUNTIF(JG!$D$4:$D$178,Lycées!$A12)=0,\"\",COUNTIF(JG!$D$4:$D$178,Lycées!$A12))","v":""},{"$f":"IF(COUNTIF(JF!$D$4:$D$647,Lycées!A12)=0,\"\",COUNTIF(JF!$D$4:$D$647,Lycées!A12))","v":""},{"$f":"IF(Lycées!$A12=\"\",\"\",((COUNTIFS(JG!$D$4:$D$178,Lycées!$A12,JG!$L$4:$L$178,\"1\")+COUNTIFS(JF!$D$4:$D$647,Lycées!$A12,JF!$L$4:$L$647,\"1\"))))","v":0},{"$f":"IF((B12=\"\"),\"\",SUMIFS(JG!$N$4:$N$178,JG!$D$4:$D$178,Lycées!$A12))","v":0},{"$f":"IF(Lycées!$F12=\"\",\"\",RANK(Lycées!$F$3:$F$30,Lycées!$F$3:$F$30,0))","v":9},{"$f":"IF(B12=\"\",\"\",SUMIFS(JF!$N$4:$N$647,JF!$D$4:$D$647,Lycées!$A12))","v":0},{"$f":"IF(Lycées!$D12=\"\",\"\",RANK(Lycées!$H$3:$H$30,Lycées!$H$3:$H$30,0))","v":""}]
["LCE",{"$f":"IF(Lycées!$A13=\"\",\"\",SUM(Lycées!$C13,Lycées!$D13))","v":0},{"$f":"IF(COUNTIF(JG!$D$4:$D$178,Lycées!$A13)=0,\"\",COUNTIF(JG!$D$4:$D$178,Lycées!$A13))","v":""},{"$f":"IF(COUNTIF(JF!$D$4:$D$647,Lycées!A13)=0,\"\",COUNTIF(JF!$D$4:$D$647,Lycées!A13))","v":""},{"$f":"IF(Lycées!$A13=\"\",\"\",((COUNTIFS(JG!$D$4:$D$178,Lycées!$A13,JG!$L$4:$L$178,\"1\")+COUNTIFS(JF!$D$4:$D$647,Lycées!$A13,JF!$L$4:$L$647,\"1\"))))","v":0},{"$f":"IF((B13=\"\"),\"\",SUMIFS(JG!$N$4:$N$178,JG!$D$4:$D$178,Lycées!$A13))","v":0},{"$f":"IF(Lycées!$F13=\"\",\"\",RANK(Lycées!$F$3:$F$30,Lycées!$F$3:$F$30,0))","v":9},{"$f":"IF(B13=\"\",\"\",SUMIFS(JF!$N$4:$N$647,JF!$D$4:$D$647,Lycées!$A13))","v":0},{"$f":"IF(Lycées!$D13=\"\",\"\",RANK(Lycées!$H$3:$H$30,Lycées!$H$3:$H$30,0))","v":""}]
["LTC",{"$f":"IF(Lycées!$A14=\"\",\"\",SUM(Lycées!$C14,Lycées!$D14))","v":0},{"$f":"IF(COUNTIF(JG!$D$4:$D$178,Lycées!$A14)=0,\"\",COUNTIF(JG!$D$4:$D$178,Lycées!$A14))","v":""},{"$f":"IF(COUNTIF(JF!$D$4:$D$647,Lycées!A14)=0,\"\",COUNTIF(JF!$D$4:$D$647,Lycées!A14))","v":""},{"$f":"IF(Lycées!$A14=\"\",\"\",((COUNTIFS(JG!$D$4:$D$178,Lycées!$A14,JG!$L$4:$L$178,\"1\")+COUNTIFS(JF!$D$4:$D$647,Lycées!$A14,JF!$L$4:$L$647,\"1\"))))","v":0},{"$f":"IF((B14=\"\"),\"\",SUMIFS(JG!$N$4:$N$178,JG!$D$4:$D$178,Lycées!$A14))","v":0},{"$f":"IF(Lycées!$F14=\"\",\"\",RANK(Lycées!$F$3:$F$30,Lycées!$F$3:$F$30,0))","v":9},{"$f":"IF(B14=\"\",\"\",SUMIFS(JF!$N$4:$N$647,JF!$D$4:$D$647,Lycées!$A14))","v":0},{"$f":"IF(Lycées!$D14=\"\",\"\",RANK(Lycées!$H$3:$H$30,Lycées!$H$3:$H$30,0))","v":""}]
["LTE",{"$f":"IF(Lycées!$A15=\"\",\"\",SUM(Lycées!$C15,Lycées!$D15))","v":0},{"$f":"IF(COUNTIF(JG!$D$4:$D$178,Lycées!$A15)=0,\"\",COUNTIF(JG!$D$4:$D$178,Lycées!$A15))","v":""},{"$f":"IF(COUNTIF(JF!$D$4:$D$647,Lycées!A15)=0,\"\",COUNTIF(JF!$D$4:$D$647,Lycées!A15))","v":""},{"$f":"IF(Lycées!$A15=\"\",\"\",((COUNTIFS(JG!$D$4:$D$178,Lycées!$A15,JG!$L$4:$L$178,\"1\")+COUNTIFS(JF!$D$4:$D$647,Lycées!$A15,JF!$L$4:$L$647,\"1\"))))","v":0},{"$f":"IF((B15=\"\"),\"\",SUMIFS(JG!$N$4:$N$178,JG!$D$4:$D$178,Lycées!$A15))","v":0},{"$f":"IF(Lycées!$F15=\"\",\"\",RANK(Lycées!$F$3:$F$30,Lycées!$F$3:$F$30,0))","v":9},{"$f":"IF(B15=\"\",\"\",SUMIFS(JF!$N$4:$N$647,JF!$D$4:$D$647,Lycées!$A15))","v":0},{"$f":"IF(Lycées!$D15=\"\",\"\",RANK(Lycées!$H$3:$H$30,Lycées!$H$3:$H$30,0))","v":""}]
["LJBM",{"$f":"IF(Lycées!$A16=\"\",\"\",SUM(Lycées!$C16,Lycées!$D16))","v":2},{"$f":"IF(COUNTIF(JG!$D$4:$D$178,Lycées!$A16)=0,\"\",COUNTIF(JG!$D$4:$D$178,Lycées!$A16))","v":""},{"$f":"IF(COUNTIF(JF!$D$4:$D$647,Lycées!A16)=0,\"\",COUNTIF(JF!$D$4:$D$647,Lycées!A16))","v":2},{"$f":"IF(Lycées!$A16=\"\",\"\",((COUNTIFS(JG!$D$4:$D$178,Lycées!$A16,JG!$L$4:$L$178,\"1\")+COUNTIFS(JF!$D$4:$D$647,Lycées!$A16,JF!$L$4:$L$647,\"1\"))))","v":0},{"$f":"IF((B16=\"\"),\"\",SUMIFS(JG!$N$4:$N$178,JG!$D$4:$D$178,Lycées!$A16))","v":0},{"$f":"IF(Lycées!$F16=\"\",\"\",RANK(Lycées!$F$3:$F$30,Lycées!$F$3:$F$30,0))","v":9},{"$f":"IF(B16=\"\",\"\",SUMIFS(JF!$N$4:$N$647,JF!$D$4:$D$647,Lycées!$A16))","v":1},{"$f":"IF(Lycées!$D16=\"\",\"\",RANK(Lycées!$H$3:$H$30,Lycées!$H$3:$H$30,0))","v":7}]
["LNB",{"$f":"IF(Lycées!$A17=\"\",\"\",SUM(Lycées!$C17,Lycées!$D17))","v":6},{"$f":"IF(COUNTIF(JG!$D$4:$D$178,Lycées!$A17)=0,\"\",COUNTIF(JG!$D$4:$D$178,Lycées!$A17))","v":""},{"$f":"IF(COUNTIF(JF!$D$4:$D$647,Lycées!A17)=0,\"\",COUNTIF(JF!$D$4:$D$647,Lycées!A17))","v":6},{"$f":"IF(Lycées!$A17=\"\",\"\",((COUNTIFS(JG!$D$4:$D$178,Lycées!$A17,JG!$L$4:$L$178,\"1\")+COUNTIFS(JF!$D$4:$D$647,Lycées!$A17,JF!$L$4:$L$647,\"1\"))))","v":0},{"$f":"IF((B17=\"\"),\"\",SUMIFS(JG!$N$4:$N$178,JG!$D$4:$D$178,Lycées!$A17))","v":0},{"$f":"IF(Lycées!$F17=\"\",\"\",RANK(Lycées!$F$3:$F$30,Lycées!$F$3:$F$30,0))","v":9},{"$f":"IF(B17=\"\",\"\",SUMIFS(JF!$N$4:$N$647,JF!$D$4:$D$647,Lycées!$A17))","v":0},{"$f":"IF(Lycées!$D17=\"\",\"\",RANK(Lycées!$H$3:$H$30,Lycées!$H$3:$H$30,0))","v":10}]
["LMRL",{"$f":"IF(Lycées!$A18=\"\",\"\",SUM(Lycées!$C18,Lycées!$D18))","v":0},{"$f":"IF(COUNTIF(JG!$D$4:$D$178,Lycées!$A18)=0,\"\",COUNTIF(JG!$D$4:$D$178,Lycées!$A18))","v":""},{"$f":"IF(COUNTIF(JF!$D$4:$D$647,Lycées!A18)=0,\"\",COUNTIF(JF!$D$4:$D$647,Lycées!A18))","v":""},{"$f":"IF(Lycées!$A18=\"\",\"\",((COUNTIFS(JG!$D$4:$D$178,Lycées!$A18,JG!$L$4:$L$178,\"1\")+COUNTIFS(JF!$D$4:$D$647,Lycées!$A18,JF!$L$4:$L$647,\"1\"))))","v":0},{"$f":"IF((B18=\"\"),\"\",SUMIFS(JG!$N$4:$N$178,JG!$D$4:$D$178,Lycées!$A18))","v":0},{"$f":"IF(Lycées!$F18=\"\",\"\",RANK(Lycées!$F$3:$F$30,Lycées!$F$3:$F$30,0))","v":9},{"$f":"IF(B18=\"\",\"\",SUMIFS(JF!$N$4:$N$647,JF!$D$4:$D$647,Lycées!$A18))","v":0},{"$f":"IF(Lycées!$D18=\"\",\"\",RANK(Lycées!$H$3:$H$30,Lycées!$H$3:$H$30,0))","v":""}]
["EPSA",{"$f":"IF(Lycées!$A19=\"\",\"\",SUM(Lycées!$C19,Lycées!$D19))","v":6},{"$f":"IF(COUNTIF(JG!$D$4:$D$178,Lycées!$A19)=0,\"\",COUNTIF(JG!$D$4:$D$178,Lycées!$A19))","v":""},{"$f":"IF(COUNTIF(JF!$D$4:$D$647,Lycées!A19)=0,\"\",COUNTIF(JF!$D$4:$D$647,Lycées!A19))","v":6},{"$f":"IF(Lycées!$A19=\"\",\"\",((COUNTIFS(JG!$D$4:$D$178,Lycées!$A19,JG!$L$4:$L$178,\"1\")+COUNTIFS(JF!$D$4:$D$647,Lycées!$A19,JF!$L$4:$L$647,\"1\"))))","v":0},{"$f":"IF((B19=\"\"),\"\",SUMIFS(JG!$N$4:$N$178,JG!$D$4:$D$178,Lycées!$A19))","v":0},{"$f":"IF(Lycées!$F19=\"\",\"\",RANK(Lycées!$F$3:$F$30,Lycées!$F$3:$F$30,0))","v":9},{"$f":"IF(B19=\"\",\"\",SUMIFS(JF!$N$4:$N$647,JF!$D$4:$D$647,Lycées!$A19))","v":0},{"$f":"IF(Lycées!$D19=\"\",\"\",RANK(Lycées!$H$3:$H$30,Lycées!$H$3:$H$30,0))","v":10}]
["AL",{"$f":"IF(Lycées!$A20=\"\",\"\",SUM(Lycées!$C20,Lycées!$D20))","v":5},{"$f":"IF(COUNTIF(JG!$D$4:$D$178,Lycées!$A20)=0,\"\",COUNTIF(JG!$D$4:$D$178,Lycées!$A20))","v":1},{"$f":"IF(COUNTIF(JF!$D$4:$D$647,Lycées!A20)=0,\"\",COUNTIF(JF!$D$4:$D$647,Lycées!A20))","v":4},{"$f":"IF(Lycées!$A20=\"\",\"\",((COUNTIFS(JG!$D$4:$D$178,Lycées!$A20,JG!$L$4:$L$178,\"1\")+COUNTIFS(JF!$D$4:$D$647,Lycées!$A20,JF!$L$4:$L$647,\"1\"))))","v":0},{"$f":"IF((B20=\"\"),\"\",SUMIFS(JG!$N$4:$N$178,JG!$D$4:$D$178,Lycées!$A20))","v":0},{"$f":"IF(Lycées!$F20=\"\",\"\",RANK(Lycées!$F$3:$F$30,Lycées!$F$3:$F$30,0))","v":9},{"$f":"IF(B20=\"\",\"\",SUMIFS(JF!$N$4:$N$647,JF!$D$4:$D$647,Lycées!$A20))","v":1},{"$f":"IF(Lycées!$D20=\"\",\"\",RANK(Lycées!$H$3:$H$30,Lycées!$H$3:$H$30,0))","v":7}]
["LCD",{"$f":"IF(Lycées!$A21=\"\",\"\",SUM(Lycées!$C21,Lycées!$D21))","v":10},{"$f":"IF(COUNTIF(JG!$D$4:$D$178,Lycées!$A21)=0,\"\",COUNTIF(JG!$D$4:$D$178,Lycées!$A21))","v":2},{"$f":"IF(COUNTIF(JF!$D$4:$D$647,Lycées!A21)=0,\"\",COUNTIF(JF!$D$4:$D$647,Lycées!A21))","v":8},{"$f":"IF(Lycées!$A21=\"\",\"\",((COUNTIFS(JG!$D$4:$D$178,Lycées!$A21,JG!$L$4:$L$178,\"1\")+COUNTIFS(JF!$D$4:$D$647,Lycées!$A21,JF!$L$4:$L$647,\"1\"))))","v":2},{"$f":"IF((B21=\"\"),\"\",SUMIFS(JG!$N$4:$N$178,JG!$D$4:$D$178,Lycées!$A21))","v":5},{"$f":"IF(Lycées!$F21=\"\",\"\",RANK(Lycées!$F$3:$F$30,Lycées!$F$3:$F$30,0))","v":2},{"$f":"IF(B21=\"\",\"\",SUMIFS(JF!$N$4:$N$647,JF!$D$4:$D$647,Lycées!$A21))","v":4},{"$f":"IF(Lycées!$D21=\"\",\"\",RANK(Lycées!$H$3:$H$30,Lycées!$H$3:$H$30,0))","v":4}]
["LML",{"$f":"IF(Lycées!$A22=\"\",\"\",SUM(Lycées!$C22,Lycées!$D22))","v":3},{"$f":"IF(COUNTIF(JG!$D$4:$D$178,Lycées!$A22)=0,\"\",COUNTIF(JG!$D$4:$D$178,Lycées!$A22))","v":1},{"$f":"IF(COUNTIF(JF!$D$4:$D$647,Lycées!A22)=0,\"\",COUNTIF(JF!$D$4:$D$647,Lycées!A22))","v":2},{"$f":"IF(Lycées!$A22=\"\",\"\",((COUNTIFS(JG!$D$4:$D$178,Lycées!$A22,JG!$L$4:$L$178,\"1\")+COUNTIFS(JF!$D$4:$D$647,Lycées!$A22,JF!$L$4:$L$647,\"1\"))))","v":1},{"$f":"IF((B22=\"\"),\"\",SUMIFS(JG!$N$4:$N$178,JG!$D$4:$D$178,Lycées!$A22))","v":3},{"$f":"IF(Lycées!$F22=\"\",\"\",RANK(Lycées!$F$3:$F$30,Lycées!$F$3:$F$30,0))","v":4},{"$f":"IF(B22=\"\",\"\",SUMIFS(JF!$N$4:$N$647,JF!$D$4:$D$647,Lycées!$A22))","v":0},{"$f":"IF(Lycées!$D22=\"\",\"\",RANK(Lycées!$H$3:$H$30,Lycées!$H$3:$H$30,0))","v":10}]
["LAM",{"$f":"IF(Lycées!$A23=\"\",\"\",SUM(Lycées!$C23,Lycées!$D23))","v":1},{"$f":"IF(COUNTIF(JG!$D$4:$D$178,Lycées!$A23)=0,\"\",COUNTIF(JG!$D$4:$D$178,Lycées!$A23))","v":1},{"$f":"IF(COUNTIF(JF!$D$4:$D$647,Lycées!A23)=0,\"\",COUNTIF(JF!$D$4:$D$647,Lycées!A23))","v":""},{"$f":"IF(Lycées!$A23=\"\",\"\",((COUNTIFS(JG!$D$4:$D$178,Lycées!$A23,JG!$L$4:$L$178,\"1\")+COUNTIFS(JF!$D$4:$D$647,Lycées!$A23,JF!$L$4:$L$647,\"1\"))))","v":1},{"$f":"IF((B23=\"\"),\"\",SUMIFS(JG!$N$4:$N$178,JG!$D$4:$D$178,Lycées!$A23))","v":3},{"$f":"IF(Lycées!$F23=\"\",\"\",RANK(Lycées!$F$3:$F$30,Lycées!$F$3:$F$30,0))","v":4},{"$f":"IF(B23=\"\",\"\",SUMIFS(JF!$N$4:$N$647,JF!$D$4:$D$647,Lycées!$A23))","v":0},{"$f":"IF(Lycées!$D23=\"\",\"\",RANK(Lycées!$H$3:$H$30,Lycées!$H$3:$H$30,0))","v":""}]
["SL",{"$f":"IF(Lycées!$A24=\"\",\"\",SUM(Lycées!$C24,Lycées!$D24))","v":2},{"$f":"IF(COUNTIF(JG!$D$4:$D$178,Lycées!$A24)=0,\"\",COUNTIF(JG!$D$4:$D$178,Lycées!$A24))","v":""},{"$f":"IF(COUNTIF(JF!$D$4:$D$647,Lycées!A24)=0,\"\",COUNTIF(JF!$D$4:$D$647,Lycées!A24))","v":2},{"$f":"IF(Lycées!$A24=\"\",\"\",((COUNTIFS(JG!$D$4:$D$178,Lycées!$A24,JG!$L$4:$L$178,\"1\")+COUNTIFS(JF!$D$4:$D$647,Lycées!$A24,JF!$L$4:$L$647,\"1\"))))","v":1},{"$f":"IF((B24=\"\"),\"\",SUMIFS(JG!$N$4:$N$178,JG!$D$4:$D$178,Lycées!$A24))","v":0},{"$f":"IF(Lycées!$F24=\"\",\"\",RANK(Lycées!$F$3:$F$30,Lycées!$F$3:$F$30,0))","v":9},{"$f":"IF(B24=\"\",\"\",SUMIFS(JF!$N$4:$N$647,JF!$D$4:$D$647,Lycées!$A24))","v":4},{"$f":"IF(Lycées!$D24=\"\",\"\",RANK(Lycées!$H$3:$H$30,Lycées!$H$3:$H$30,0))","v":4}]
["LN",{"$f":"IF(Lycées!$A25=\"\",\"\",SUM(Lycées!$C25,Lycées!$D25))","v":2},{"$f":"IF(COUNTIF(JG!$D$4:$D$178,Lycées!$A25)=0,\"\",COUNTIF(JG!$D$4:$D$178,Lycées!$A25))","v":""},{"$f":"IF(COUNTIF(JF!$D$4:$D$647,Lycées!A25)=0,\"\",COUNTIF(JF!$D$4:$D$647,Lycées!A25))","v":2},{"$f":"IF(Lycées!$A25=\"\",\"\",((COUNTIFS(JG!$D$4:$D$178,Lycées!$A25,JG!$L$4:$L$178,\"1\")+COUNTIFS(JF!$D$4:$D$647,Lycées!$A25,JF!$L$4:$L$647,\"1\"))))","v":0},{"$f":"IF((B25=\"\"),\"\",SUMIFS(JG!$N$4:$N$178,JG!$D$4:$D$178,Lycées!$A25))","v":0},{"$f":"IF(Lycées!$F25=\"\",\"\",RANK(Lycées!$F$3:$F$30,Lycées!$F$3:$F$30,0))","v":9},{"$f":"IF(B25=\"\",\"\",SUMIFS(JF!$N$4:$N$647,JF!$D$4:$D$647,Lycées!$A25))","v":0},{"$f":"IF(Lycées!$D25=\"\",\"\",RANK(Lycées!$H$3:$H$30,Lycées!$H$3:$H$30,0))","v":10}]
[null,{"$f":"IF(Lycées!$A26=\"\",\"\",SUM(Lycées!$C26,Lycées!$D26))","v":""},{"$f":"IF(COUNTIF(JG!$D$4:$D$17,Lycées!$A26)=0,\"\",COUNTIF(JG!$D$4:$D$17,Lycées!$A26))","v":""},{"$f":"IF(COUNTIF(JF!$D$4:$D$62,Lycées!A26)=0,\"\",COUNTIF(JF!$D$4:$D$62,Lycées!A26))","v":""},{"$f":"IF(Lycées!$A26=\"\",\"\",((COUNTIFS(JG!$D$4:$D$17,Lycées!$A26,JG!$L$4:$L$17,\"1\")+COUNTIFS(JF!$D$4:$D$62,Lycées!$A26,JF!$L$4:$L$62,\"1\"))))","v":""},{"$f":"IF((B26=\"\"),\"\",SUMIFS(JG!$N$4:$N$17,JG!$D$4:$D$17,Lycées!$A26))","v":""},{"$f":"IF(Lycées!$F26=\"\",\"\",RANK(Lycées!$F$3:$F$30,Lycées!$F$3:$F$30,0))","v":""},{"$f":"IF(B26=\"\",\"\",SUMIFS(JF!$N$4:$N$62,JF!$D$4:$D$62,Lycées!$A26))","v":""},{"$f":"IF(Lycées!$D26=\"\",\"\",RANK(Lycées!$H$3:$H$30,Lycées!$H$3:$H$30,0))","v":""}]
[null,{"$f":"IF(Lycées!$A27=\"\",\"\",SUM(Lycées!$C27,Lycées!$D27))","v":""},{"$f":"IF(COUNTIF(JG!$D$4:$D$17,Lycées!$A27)=0,\"\",COUNTIF(JG!$D$4:$D$17,Lycées!$A27))","v":""},{"$f":"IF(COUNTIF(JF!$D$4:$D$62,Lycées!A27)=0,\"\",COUNTIF(JF!$D$4:$D$62,Lycées!A27))","v":""},{"$f":"IF(Lycées!$A27=\"\",\"\",((COUNTIFS(JG!$D$4:$D$17,Lycées!$A27,JG!$L$4:$L$17,\"1\")+COUNTIFS(JF!$D$4:$D$62,Lycées!$A27,JF!$L$4:$L$62,\"1\"))))","v":""},{"$f":"IF((B27=\"\"),\"\",SUMIFS(JG!$N$4:$N$17,JG!$D$4:$D$17,Lycées!$A27))","v":""},{"$f":"IF(Lycées!$F27=\"\",\"\",RANK(Lycées!$F$3:$F$30,Lycées!$F$3:$F$30,0))","v":""},{"$f":"IF(B27=\"\",\"\",SUMIFS(JF!$N$4:$N$62,JF!$D$4:$D$62,Lycées!$A27))","v":""},{"$f":"IF(Lycées!$D27=\"\",\"\",RANK(Lycées!$H$3:$H$30,Lycées!$H$3:$H$30,0))","v":""}]
[null,{"$f":"IF(Lycées!$A28=\"\",\"\",SUM(Lycées!$C28,Lycées!$D28))","v":""},{"$f":"IF(COUNTIF(JG!$D$4:$D$17,Lycées!$A28)=0,\"\",COUNTIF(JG!$D$4:$D$17,Lycées!$A28))","v":""},{"$f":"IF(COUNTIF(JF!$D$4:$D$62,Lycées!A28)=0,\"\",COUNTIF(JF!$D$4:$D$62,Lycées!A28))","v":""},{"$f":"IF(Lycées!$A28=\"\",\"\",((COUNTIFS(JG!$D$4:$D$17,Lycées!$A28,JG!$L$4:$L$17,\"1\")+COUNTIFS(JF!$D$4:$D$62,Lycées!$A28,JF!$L$4:$L$62,\"1\"))))","v":""},{"$f":"IF((B28=\"\"),\"\",SUMIFS(JG!$N$4:$N$17,JG!$D$4:$D$17,Lycées!$A28))","v":""},{"$f":"IF(Lycées!$F28=\"\",\"\",RANK(Lycées!$F$3:$F$30,Lycées!$F$3:$F$30,0))","v":""},{"$f":"IF(B28=\"\",\"\",SUMIFS(JF!$N$4:$N$62,JF!$D$4:$D$62,Lycées!$A28))","v":""},{"$f":"IF(Lycées!$D28=\"\",\"\",RANK(Lycées!$H$3:$H$30,Lycées!$H$3:$H$30,0))","v":""}]
[null,{"$f":"IF(Lycées!$A29=\"\",\"\",SUM(Lycées!$C29,Lycées!$D29))","v":""},{"$f":"IF(COUNTIF(JG!$D$4:$D$17,Lycées!$A29)=0,\"\",COUNTIF(JG!$D$4:$D$17,Lycées!$A29))","v":""},{"$f":"IF(COUNTIF(JF!$D$4:$D$62,Lycées!A29)=0,\"\",COUNTIF(JF!$D$4:$D$62,Lycées!A29))","v":""},{"$f":"IF(Lycées!$A29=\"\",\"\",((COUNTIFS(JG!$D$4:$D$17,Lycées!$A29,JG!$L$4:$L$17,\"1\")+COUNTIFS(JF!$D$4:$D$62,Lycées!$A29,JF!$L$4:$L$62,\"1\"))))","v":""},{"$f":"IF((B29=\"\"),\"\",SUMIFS(JG!$N$4:$N$17,JG!$D$4:$D$17,Lycées!$A29))","v":""},{"$f":"IF(Lycées!$F29=\"\",\"\",RANK(Lycées!$F$3:$F$30,Lycées!$F$3:$F$30,0))","v":""},{"$f":"IF(B29=\"\",\"\",SUMIFS(JF!$N$4:$N$62,JF!$D$4:$D$62,Lycées!$A29))","v":""},{"$f":"IF(Lycées!$D29=\"\",\"\",RANK(Lycées!$H$3:$H$30,Lycées!$H$3:$H$30,0))","v":""}]
[null,{"$f":"IF(Lycées!$A30=\"\",\"\",SUM(Lycées!$C30,Lycées!$D30))","v":""},{"$f":"IF(COUNTIF(JG!$D$4:$D$17,Lycées!$A30)=0,\"\",COUNTIF(JG!$D$4:$D$17,Lycées!$A30))","v":""},{"$f":"IF(COUNTIF(JF!$D$4:$D$62,Lycées!A30)=0,\"\",COUNTIF(JF!$D$4:$D$62,Lycées!A30))","v":""},{"$f":"IF(Lycées!$A30=\"\",\"\",((COUNTIFS(JG!$D$4:$D$17,Lycées!$A30,JG!$L$4:$L$17,\"1\")+COUNTIFS(JF!$D$4:$D$62,Lycées!$A30,JF!$L$4:$L$62,\"1\"))))","v":""},{"$f":"IF((B30=\"\"),\"\",SUMIFS(JG!$N$4:$N$17,JG!$D$4:$D$17,Lycées!$A30))","v":""},{"$f":"IF(Lycées!$F30=\"\",\"\",RANK(Lycées!$F$3:$F$30,Lycées!$F$3:$F$30,0))","v":""},{"$f":"IF(B30=\"\",\"\",SUMIFS(JF!$N$4:$N$62,JF!$D$4:$D$62,Lycées!$A30))","v":""},{"$f":"IF(Lycées!$D30=\"\",\"\",RANK(Lycées!$H$3:$H$30,Lycées!$H$3:$H$30,0))","v":""}]

{"sheet":"JG","index":1,"n_rows":19,"n_cols":14,"rows_kept":19,"cut":false,"hidden":false,"merged":[[0,1,0,3]]}
[null,"Classement général - Jeunes Gens",null,null,null,null,null,null,null,null,null,null,null,"CHAMPIONNAT LASEL GYM OPEN   "]
[null,null,null,null,null,null,null,"Résultats"]
["ID","Nom","Prénom","Lycée","Sexe","Cat","Groupe","Barres","Sol","Arcons","Somme","Rang/Cat","cat2","PointsLycée"]
[21," Scheuer","Christophe","AL","m","Min_Aff",3,11.45,12.7,12,{"$f":"IF(SUM(JG!$H4:$J4)=0,\"\",SUM(JG!$H4:$J4))","v":36.15},{"$f":"IF(K4=\"\",\"\",1+SUMPRODUCT((F$4:F$17=F4)*(K$4:K$17>K4)))","v":4},{"$f":"JG!$F4","v":"Min_Aff"},{"$f":"IF(JG!$L4=1,3,0)+IF(JG!$L4=2,2,0)+IF(JG!$L4=3,1,0)","v":0}]
[14,"Diesner","Jakob","LHCE","m","Min_Aff",1,12.9,13,13.45,{"$f":"IF(SUM(JG!$H5:$J5)=0,\"\",SUM(JG!$H5:$J5))","v":39.349999999999994},1,{"$f":"JG!$F5","v":"Min_Aff"},{"$f":"IF(JG!$L5=1,3,0)+IF(JG!$L5=2,2,0)+IF(JG!$L5=3,1,0)","v":3}]
[3,"Gschwend","Ben","LHCE","m","Min_Aff",1,12.5,12.3,13.3,{"$f":"IF(SUM(JG!$H6:$J6)=0,\"\",SUM(JG!$H6:$J6))","v":38.1},2,{"$f":"JG!$F6","v":"Min_Aff"},{"$f":"IF(JG!$L6=1,3,0)+IF(JG!$L6=2,2,0)+IF(JG!$L6=3,1,0)","v":2}]
[19,"Büchler","Jérôme","LHCE","m","Jun_Aff",1,14.7,14.4,14.7,{"$f":"IF(SUM(JG!$H7:$J7)=0,\"\",SUM(JG!$H7:$J7))","v":43.8},2,{"$f":"JG!$F7","v":"Jun_Aff"},{"$f":"IF(JG!$L7=1,3,0)+IF(JG!$L7=2,2,0)+IF(JG!$L7=3,1,0)","v":2}]
[9,"Bastos","Noah","LTL","m","Min_Aff",2,11.2,14,12.2,{"$f":"IF(SUM(JG!$H8:$J8)=0,\"\",SUM(JG!$H8:$J8))","v":37.4},3,{"$f":"JG!$F8","v":"Min_Aff"},{"$f":"IF(JG!$L8=1,3,0)+IF(JG!$L8=2,2,0)+IF(JG!$L8=3,1,0)","v":1}]
[6,"FERREIRA","Martim","LTL","m","Cad_Aff",2,13,13.9,13.5,{"$f":"IF(SUM(JG!$H9:$J9)=0,\"\",SUM(JG!$H9:$J9))","v":40.4},1,{"$f":"JG!$F9","v":"Cad_Aff"},{"$f":"IF(JG!$L9=1,3,0)+IF(JG!$L9=2,2,0)+IF(JG!$L9=3,1,0)","v":3}]
[2,"Leclerc","Sam","LTL","m","Sen_Aff",2,13.1,15.2,11.9,{"$f":"IF(SUM(JG!$H10:$J10)=0,\"\",SUM(JG!$H10:$J10))","v":40.199999999999996},3,{"$f":"JG!$F10","v":"Sen_Aff"},{"$f":"IF(JG!$L10=1,3,0)+IF(JG!$L10=2,2,0)+IF(JG!$L10=3,1,0)","v":1}]
[22,"Schwarz","Florian","LML","m","Jun_Aff",3,14.7,14.6,15.5,{"$f":"IF(SUM(JG!$H11:$J11)=0,\"\",SUM(JG!$H11:$J11))","v":44.8},1,{"$f":"JG!$F11","v":"Jun_Aff"},{"$f":"IF(JG!$L11=1,3,0)+IF(JG!$L11=2,2,0)+IF(JG!$L11=3,1,0)","v":3}]
[4,"Weiwert","Steve","LAM","m","Sen_Aff",3,15.2,15.1,16.399999999999999,{"$f":"IF(SUM(JG!$H12:$J12)=0,\"\",SUM(JG!$H12:$J12))","v":46.699999999999996},1,{"$f":"JG!$F12","v":"Sen_Aff"},{"$f":"IF(JG!$L12=1,3,0)+IF(JG!$L12=2,2,0)+IF(JG!$L12=3,1,0)","v":3}]
[10,"Boccarello","Matteo","ALR","m","Min_NA",3,4.0999999999999996,10.199999999999999,null,{"$f":"IF(SUM(JG!$H13:$J13)=0,\"\",SUM(JG!$H13:$J13))","v":14.299999999999999},1,{"$f":"JG!$F13","v":"Min_NA"},{"$f":"IF(JG!$L13=1,3,0)+IF(JG!$L13=2,2,0)+IF(JG!$L13=3,1,0)","v":3}]
[20,"DUVAL","Evan","LAML","m","Cad_Aff",1,11.9,13.7,12.05,{"$f":"IF(SUM(JG!$H14:$J14)=0,\"\",SUM(JG!$H14:$J14))","v":37.650000000000006},2,{"$f":"JG!$F14","v":"Cad_Aff"},{"$f":"IF(JG!$L14=1,3,0)+IF(JG!$L14=2,2,0)+IF(JG!$L14=3,1,0)","v":2}]
[13,"LEYSER","Lino","LAML","m","Cad_Aff",1,10.7,13.2,9.1999999999999993,{"$f":"IF(SUM(JG!$H15:$J15)=0,\"\",SUM(JG!$H15:$J15))","v":33.099999999999994},3,{"$f":"JG!$F15","v":"Cad_Aff"},{"$f":"IF(JG!$L15=1,3,0)+IF(JG!$L15=2,2,0)+IF(JG!$L15=3,1,0)","v":1}]
[18,"SCHOMER","Tom","LAML","m","Sen_Aff",1,11.75,13.4,12.65,{"$f":"IF(SUM(JG!$H16:$J16)=0,\"\",SUM(JG!$H16:$J16))","v":37.799999999999997},4,{"$f":"JG!$F16","v":"Sen_Aff"},{"$f":"IF(JG!$L16=1,3,0)+IF(JG!$L16=2,2,0)+IF(JG!$L16=3,1,0)","v":0}]
[5,"Sappada","Christian","LTMAL","m","Sen_Aff",2,14,15.2,15.8,{"$f":"IF(SUM(JG!$H17:$J17)=0,\"\",SUM(JG!$H17:$J17))","v":45},2,{"$f":"JG!$F17","v":"Sen_Aff"},{"$f":"IF(JG!$L17=1,3,0)+IF(JG!$L17=2,2,0)+IF(JG!$L17=3,1,0)","v":2}]
[null,"Schloesser","Yann","LCD","m","Min_NA",2,2.7,10.4,null,{"$f":"IF(SUM(JG!$H18:$J18)=0,\"\",SUM(JG!$H18:$J18))","v":13.100000000000001},2,{"$f":"JG!$F18","v":"Min_NA"},{"$f":"IF(JG!$L18=1,3,0)+IF(JG!$L18=2,2,0)+IF(JG!$L18=3,1,0)","v":2}]
[null,"Ferrandini","Yannick","LCD","m","Cad_NA",2,3.85,11.7,null,{"$f":"IF(SUM(JG!$H19:$J19)=0,\"\",SUM(JG!$H19:$J19))","v":15.549999999999999},1,{"$f":"JG!$F19","v":"Cad_NA"},{"$f":"IF(JG!$L19=1,3,0)+IF(JG!$L19=2,2,0)+IF(JG!$L19=3,1,0)","v":3}]

{"sheet":"JF","index":2,"n_rows":76,"n_cols":14,"rows_kept":76,"cut":false,"hidden":false,"merged":[[0,1,0,3]]}
[null,"Classement général - Jeunes Filles",null,null,null,null,null,null,null,null,null,null,null,"CHAMPIONNAT LASEL GYM OPEN   "]
[null,null,null,null,null,null,null,"Résultats"]
["ID","Nom","Prénom","Lycée","Sexe","Cat","Groupe","Barres","Sol","Saut","Somme","Rang/Cat","cat2","PointsLycée"]
[41,"Palermo","Mica","EPSA","f","CAD_AFF",1,13.1,14.9,16,{"$f":"IF(SUM(JF!$I4:$J4)=0,\"\",SUM(JF!$I4:$J4))","v":30.9},{"$f":"IF(K4=\"\",\"\",1+SUMPRODUCT(($F$4:$F$62=F4)*($K$4:$K$62>K4)))","v":19},{"$f":"JF!$F4","v":"CAD_AFF"},{"$f":"IF(JF!$L4=1,3,0)+IF(JF!$L4=2,2,0)+IF(JF!$L4=3,1,0)","v":0}]
[13,"Graf","Lisi","EPSA","f","MIN_AFF",1,15.65,14.9,16.3,{"$f":"IF(SUM(JF!$I5:$J5)=0,\"\",SUM(JF!$I5:$J5))","v":31.200000000000003},15,{"$f":"JF!$F5","v":"MIN_AFF"},{"$f":"IF(JF!$L5=1,3,0)+IF(JF!$L5=2,2,0)+IF(JF!$L5=3,1,0)","v":0}]
[26,"Behrens","Svenja","EPSA","f","CAD_AFF",1,15.05,14.8,16.2,{"$f":"IF(SUM(JF!$I6:$J6)=0,\"\",SUM(JF!$I6:$J6))","v":31},18,{"$f":"JF!$F6","v":"CAD_AFF"},{"$f":"IF(JF!$L6=1,3,0)+IF(JF!$L6=2,2,0)+IF(JF!$L6=3,1,0)","v":0}]
[36,"Ginter","Lena","EPSA","f","CAD_NA",1,null,13.5,12,{"$f":"IF(SUM(JF!$I7:$J7)=0,\"\",SUM(JF!$I7:$J7))","v":25.5},4,{"$f":"JF!$F7","v":"CAD_NA"},{"$f":"IF(JF!$L7=1,3,0)+IF(JF!$L7=2,2,0)+IF(JF!$L7=3,1,0)","v":0}]
[27,"Thomas","Yana","EPSA","f","CAD_AFF",1,9.9499999999999993,14.7,16,{"$f":"IF(SUM(JF!$I8:$J8)=0,\"\",SUM(JF!$I8:$J8))","v":30.7},20,{"$f":"JF!$F8","v":"CAD_AFF"},{"$f":"IF(JF!$L8=1,3,0)+IF(JF!$L8=2,2,0)+IF(JF!$L8=3,1,0)","v":0}]
[19,"Leshwange","Marie","EPSA","f","CAD_NA",1,null,11.5,12.5,{"$f":"IF(SUM(JF!$I9:$J9)=0,\"\",SUM(JF!$I9:$J9))","v":24},7,{"$f":"JF!$F9","v":"CAD_NA"},{"$f":"IF(JF!$L9=1,3,0)+IF(JF!$L9=2,2,0)+IF(JF!$L9=3,1,0)","v":0}]
[32,"Pereira","Daniela","LNB","f","MIN_AFF",1,11.45,14.1,15.6,{"$f":"IF(SUM(JF!$I10:$J10)=0,\"\",SUM(JF!$I10:$J10))","v":29.7},19,{"$f":"JF!$F10","v":"MIN_AFF"},{"$f":"IF(JF!$L10=1,3,0)+IF(JF!$L10=2,2,0)+IF(JF!$L10=3,1,0)","v":0}]
[71,"Bordicchia","Luana","LNB","f","CAD_AFF",1,10.4,14.2,15.8,{"$f":"IF(SUM(JF!$I11:$J11)=0,\"\",SUM(JF!$I11:$J11))","v":30},21,{"$f":"JF!$F11","v":"CAD_AFF"},{"$f":"IF(JF!$L11=1,3,0)+IF(JF!$L11=2,2,0)+IF(JF!$L11=3,1,0)","v":0}]
[46,"Krier","Mia","LNB","f","MIN_AFF",1,15.15,14.8,16,{"$f":"IF(SUM(JF!$I12:$J12)=0,\"\",SUM(JF!$I12:$J12))","v":30.8},16,{"$f":"JF!$F12","v":"MIN_AFF"},{"$f":"IF(JF!$L12=1,3,0)+IF(JF!$L12=2,2,0)+IF(JF!$L12=3,1,0)","v":0}]
[73,"Divo","Lena","LNB","f","CAD_AFF",1,16.2,15.6,16.3,{"$f":"IF(SUM(JF!$I13:$J13)=0,\"\",SUM(JF!$I13:$J13))","v":31.9},17,{"$f":"JF!$F13","v":"CAD_AFF"},{"$f":"IF(JF!$L13=1,3,0)+IF(JF!$L13=2,2,0)+IF(JF!$L13=3,1,0)","v":0}]
[21,"Kirsch","Ella","LNB","f","MIN_AFF",1,16.149999999999999,15.4,16.149999999999999,{"$f":"IF(SUM(JF!$I14:$J14)=0,\"\",SUM(JF!$I14:$J14))","v":31.549999999999997},14,{"$f":"JF!$F14","v":"MIN_AFF"},{"$f":"IF(JF!$L14=1,3,0)+IF(JF!$L14=2,2,0)+IF(JF!$L14=3,1,0)","v":0}]
[20,"Da Silva Carvalho","Vanessa","LNB","f","MIN_AFF",1,15.7,15.5,16.399999999999999,{"$f":"IF(SUM(JF!$I15:$J15)=0,\"\",SUM(JF!$I15:$J15))","v":31.9},13,{"$f":"JF!$F15","v":"MIN_AFF"},{"$f":"IF(JF!$L15=1,3,0)+IF(JF!$L15=2,2,0)+IF(JF!$L15=3,1,0)","v":0}]
[2,"Cherrier","Aurélie","AL","f","MIN_NA",1,null,12.2,11,{"$f":"IF(SUM(JF!$I16:$J16)=0,\"\",SUM(JF!$I16:$J16))","v":23.2},5,{"$f":"JF!$F16","v":"MIN_NA"},{"$f":"IF(JF!$L16=1,3,0)+IF(JF!$L16=2,2,0)+IF(JF!$L16=3,1,0)","v":0}]
[1,"Helfrich","Lea","AL","f","MIN_NA",1,null,12.5,10.8,{"$f":"IF(SUM(JF!$I17:$J17)=0,\"\",SUM(JF!$I17:$J17))","v":23.3},4,{"$f":"JF!$F17","v":"MIN_NA"},{"$f":"IF(JF!$L17=1,3,0)+IF(JF!$L17=2,2,0)+IF(JF!$L17=3,1,0)","v":0}]
[66,"Georges","Ines","AL","f","MIN_NA",1,null,12.2,11.2,{"$f":"IF(SUM(JF!$I18:$J18)=0,\"\",SUM(JF!$I18:$J18))","v":23.4},3,{"$f":"JF!$F18","v":"MIN_NA"},{"$f":"IF(JF!$L18=1,3,0)+IF(JF!$L18=2,2,0)+IF(JF!$L18=3,1,0)","v":1}]
[24,"Jolivet","Isabelle","AL","f","MIN_NA",1,null,11.2,10.5,{"$f":"IF(SUM(JF!$I19:$J19)=0,\"\",SUM(JF!$I19:$J19))","v":21.7},6,{"$f":"JF!$F19","v":"MIN_NA"},{"$f":"IF(JF!$L19=1,3,0)+IF(JF!$L19=2,2,0)+IF(JF!$L19=3,1,0)","v":0}]
[42,"Serres","Nora","LCD","f","CAD_NA",1,null,13.4,12,{"$f":"IF(SUM(JF!$I20:$J20)=0,\"\",SUM(JF!$I20:$J20))","v":25.4},5,{"$f":"JF!$F20","v":"CAD_NA"},{"$f":"IF(JF!$L20=1,3,0)+IF(JF!$L20=2,2,0)+IF(JF!$L20=3,1,0)","v":0}]
[43,"Hendel","Ly","LCD","f","CAD_NA",1,null,13.3,14,{"$f":"IF(SUM(JF!$I21:$J21)=0,\"\",SUM(JF!$I21:$J21))","v":27.3},3,{"$f":"JF!$F21","v":"CAD_NA"},{"$f":"IF(JF!$L21=1,3,0)+IF(JF!$L21=2,2,0)+IF(JF!$L21=3,1,0)","v":1}]
[3,"Davie","Emma","LCD","f","CAD_NA",1,null,14.7,15.7,{"$f":"IF(SUM(JF!$I22:$J22)=0,\"\",SUM(JF!$I22:$J22))","v":30.4},1,{"$f":"JF!$F22","v":"CAD_NA"},{"$f":"IF(JF!$L22=1,3,0)+IF(JF!$L22=2,2,0)+IF(JF!$L22=3,1,0)","v":3}]
[59,"Mergen","Chiara","LCD","f","MIN_AFF",1,14.25,15.8,16.2,{"$f":"IF(SUM(JF!$I23:$J23)=0,\"\",SUM(JF!$I23:$J23))","v":32},12,{"$f":"JF!$F23","v":"MIN_AFF"},{"$f":"IF(JF!$L23=1,3,0)+IF(JF!$L23=2,2,0)+IF(JF!$L23=3,1,0)","v":0}]
[18,"Christen ","Kim","LCD","f","MIN_AFF",1,14.75,15,15.7,{"$f":"IF(SUM(JF!$I24:$J24)=0,\"\",SUM(JF!$I24:$J24))","v":30.7},17,{"$f":"JF!$F24","v":"MIN_AFF"},{"$f":"IF(JF!$L24=1,3,0)+IF(JF!$L24=2,2,0)+IF(JF!$L24=3,1,0)","v":0}]
[65,"Christen","Lis","LCD","f","MIN_AFF",1,14.85,15,15.4,{"$f":"IF(SUM(JF!$I25:$J25)=0,\"\",SUM(JF!$I25:$J25))","v":30.4},18,{"$f":"JF!$F25","v":"MIN_AFF"},{"$f":"IF(JF!$L25=1,3,0)+IF(JF!$L25=2,2,0)+IF(JF!$L25=3,1,0)","v":0}]
[null,"Sinnes","Nora","LCD","f","CAD_AFF",1,14.95,15.9,16.25,{"$f":"IF(SUM(JF!$I26:$J26)=0,\"\",SUM(JF!$I26:$J26))","v":32.15},16,{"$f":"JF!$F26","v":"CAD_AFF"},{"$f":"IF(JF!$L26=1,3,0)+IF(JF!$L26=2,2,0)+IF(JF!$L26=3,1,0)","v":0}]
[null,"Kugner","Vicky","LCD","f","CAD_NA",1,null,11.6,13.8,{"$f":"IF(SUM(JF!$I27:$J27)=0,\"\",SUM(JF!$I27:$J27))","v":25.4},5,{"$f":"JF!$F27","v":"CAD_NA"},{"$f":"IF(JF!$L27=1,3,0)+IF(JF!$L27=2,2,0)+IF(JF!$L27=3,1,0)","v":0}]
[57,"Lenertz","Maya","LGE","f","CAD_AFF",2,12.2,12,16.05,{"$f":"IF(SUM(JF!$H28:$J28)=0,\"\",SUM(JF!$H28:$J28))","v":40.25},12,{"$f":"JF!$F28","v":"CAD_AFF"},{"$f":"IF(JF!$L28=1,3,0)+IF(JF!$L28=2,2,0)+IF(JF!$L28=3,1,0)","v":0}]
[37,"Silva Santos","Beatriz","LGE","f","CAD_AFF",2,9.1999999999999993,13.1,12.3,{"$f":"IF(SUM(JF!$H29:$J29)=0,\"\",SUM(JF!$H29:$J29))","v":34.599999999999994},15,{"$f":"JF!$F29","v":"CAD_AFF"},{"$f":"IF(JF!$L29=1,3,0)+IF(JF!$L29=2,2,0)+IF(JF!$L29=3,1,0)","v":0}]
[16,"Poldrugo","Fiona","LGE","f","CAD_AFF",2,13.9,13,15.8,{"$f":"IF(SUM(JF!$H30:$J30)=0,\"\",SUM(JF!$H30:$J30))","v":42.7},10,{"$f":"JF!$F30","v":"CAD_AFF"},{"$f":"IF(JF!$L30=1,3,0)+IF(JF!$L30=2,2,0)+IF(JF!$L30=3,1,0)","v":0}]
[44,"Da Grava","Xenia","LGE","f","CAD_AFF",2,13.15,11.3,11.5,{"$f":"IF(SUM(JF!$H31:$J31)=0,\"\",SUM(JF!$H31:$J31))","v":35.950000000000003},14,{"$f":"JF!$F31","v":"CAD_AFF"},{"$f":"IF(JF!$L31=1,3,0)+IF(JF!$L31=2,2,0)+IF(JF!$L31=3,1,0)","v":0}]
[38,"Steichen","Lyn","LGE","f","CAD_AFF",2,15.9,15.6,16.149999999999999,{"$f":"IF(SUM(JF!$H32:$J32)=0,\"\",SUM(JF!$H32:$J32))","v":47.65},5,{"$f":"JF!$F32","v":"CAD_AFF"},{"$f":"IF(JF!$L32=1,3,0)+IF(JF!$L32=2,2,0)+IF(JF!$L32=3,1,0)","v":0}]
[null,"Gashi","Hana","LGE","f","CAD_AFF",2,14.25,13.5,15.75,{"$f":"IF(SUM(JF!$H33:$J33)=0,\"\",SUM(JF!$H33:$J33))","v":43.5},9,{"$f":"JF!$F33","v":"CAD_AFF"},{"$f":"IF(JF!$L33=1,3,0)+IF(JF!$L33=2,2,0)+IF(JF!$L33=3,1,0)","v":0}]
[15,"Schleich","Lola","LHCE","f","MIN_AFF",2,17,15.9,16.45,{"$f":"IF(SUM(JF!$H34:$J34)=0,\"\",SUM(JF!$H34:$J34))","v":49.349999999999994},1,{"$f":"JF!$F34","v":"MIN_AFF"},{"$f":"IF(JF!$L34=1,3,0)+IF(JF!$L34=2,2,0)+IF(JF!$L34=3,1,0)","v":3}]
[47,"Erpelding","Kim","LHCE","f","MIN_AFF",2,14,12.7,15.55,{"$f":"IF(SUM(JF!$H35:$J35)=0,\"\",SUM(JF!$H35:$J35))","v":42.25},8,{"$f":"JF!$F35","v":"MIN_AFF"},{"$f":"IF(JF!$L35=1,3,0)+IF(JF!$L35=2,2,0)+IF(JF!$L35=3,1,0)","v":0}]
[40,"Oliveira Bras","Juliana","LHCE","f","MIN_AFF",2,14.35,13.8,15.6,{"$f":"IF(SUM(JF!$H36:$J36)=0,\"\",SUM(JF!$H36:$J36))","v":43.75},{"$f":"IF(K36=\"\",\"\",1+SUMPRODUCT(($F$4:$F$62=F36)*($K$4:$K$62>K36)))","v":7},{"$f":"JF!$F36","v":"MIN_AFF"},{"$f":"IF(JF!$L36=1,3,0)+IF(JF!$L36=2,2,0)+IF(JF!$L36=3,1,0)","v":0}]
[54,"Castellucci","Chiara","LHCE","f","MIN_AFF",2,16.649999999999999,16.399999999999999,16.3,{"$f":"IF(SUM(JF!$H37:$J37)=0,\"\",SUM(JF!$H37:$J37))","v":49.349999999999994},1,{"$f":"JF!$F37","v":"MIN_AFF"},{"$f":"IF(JF!$L37=1,3,0)+IF(JF!$L37=2,2,0)+IF(JF!$L37=3,1,0)","v":3}]
[48,"Paciotti","Pamela","LHCE","f","CAD_AFF",2,16.45,16.2,16.399999999999999,{"$f":"IF(SUM(JF!$H38:$J38)=0,\"\",SUM(JF!$H38:$J38))","v":49.05},2,{"$f":"JF!$F38","v":"CAD_AFF"},{"$f":"IF(JF!$L38=1,3,0)+IF(JF!$L38=2,2,0)+IF(JF!$L38=3,1,0)","v":2}]
[35,"Mousel","Magali","LHCE","f","CAD_AFF",2,15.45,16,16.399999999999999,{"$f":"IF(SUM(JF!$H39:$J39)=0,\"\",SUM(JF!$H39:$J39))","v":47.849999999999994},4,{"$f":"JF!$F39","v":"CAD_AFF"},{"$f":"IF(JF!$L39=1,3,0)+IF(JF!$L39=2,2,0)+IF(JF!$L39=3,1,0)","v":0}]
[39,"Leisen","Noé","LTL","f","MIN_AFF",2,16,15.8,16.5,{"$f":"IF(SUM(JF!$H40:$J40)=0,\"\",SUM(JF!$H40:$J40))","v":48.3},4,{"$f":"JF!$F40","v":"MIN_AFF"},{"$f":"IF(JF!$L40=1,3,0)+IF(JF!$L40=2,2,0)+IF(JF!$L40=3,1,0)","v":0}]
[51,"Ramos","Leatitia","LTL","f","JUN_AFF",2,11.3,13.6,null,{"$f":"IF(SUM(JF!$H41:$J41)=0,\"\",SUM(JF!$H41:$J41))","v":24.9},1,{"$f":"JF!$F41","v":"JUN_AFF"},{"$f":"IF(JF!$L41=1,3,0)+IF(JF!$L41=2,2,0)+IF(JF!$L41=3,1,0)","v":3}]
[72,"Mendes","Diana","LTL","f","CAD_AFF",2,16.399999999999999,16.2,16.399999999999999,{"$f":"IF(SUM(JF!$H42:$J42)=0,\"\",SUM(JF!$H42:$J42))","v":48.999999999999993},3,{"$f":"JF!$F42","v":"CAD_AFF"},{"$f":"IF(JF!$L42=1,3,0)+IF(JF!$L42=2,2,0)+IF(JF!$L42=3,1,0)","v":1}]
[53,"Muller","Lea","LTL","f","CAD_AFF",2,16.5,16.399999999999999,16.399999999999999,{"$f":"IF(SUM(JF!$H43:$J43)=0,\"\",SUM(JF!$H43:$J43))","v":49.3},1,{"$f":"JF!$F43","v":"CAD_AFF"},{"$f":"IF(JF!$L43=1,3,0)+IF(JF!$L43=2,2,0)+IF(JF!$L43=3,1,0)","v":3}]
[9,"Ferreira","Lisa","LTL","f","MIN_AFF",2,16.600000000000001,16,16.5,{"$f":"IF(SUM(JF!$H44:$J44)=0,\"\",SUM(JF!$H44:$J44))","v":49.1},3,{"$f":"JF!$F44","v":"MIN_AFF"},{"$f":"IF(JF!$L44=1,3,0)+IF(JF!$L44=2,2,0)+IF(JF!$L44=3,1,0)","v":1}]
[4,"Schmit","Linn","LML","f","CAD_AFF",2,13.9,14.2,15.7,{"$f":"IF(SUM(JF!$H45:$J45)=0,\"\",SUM(JF!$H45:$J45))","v":43.8},8,{"$f":"JF!$F45","v":"CAD_AFF"},{"$f":"IF(JF!$L45=1,3,0)+IF(JF!$L45=2,2,0)+IF(JF!$L45=3,1,0)","v":0}]
[6,"Abbruzzese","Gloria","LML","f","CAD_AFF",2,10.8,14,15.5,{"$f":"IF(SUM(JF!$H46:$J46)=0,\"\",SUM(JF!$H46:$J46))","v":40.299999999999997},11,{"$f":"JF!$F46","v":"CAD_AFF"},{"$f":"IF(JF!$L46=1,3,0)+IF(JF!$L46=2,2,0)+IF(JF!$L46=3,1,0)","v":0}]
[56,"Poiré","Noémie","LTMAL","f","SEN_NA",2,null,14.5,15.9,{"$f":"IF(SUM(JF!$H47:$J47)=0,\"\",SUM(JF!$H47:$J47))","v":30.4},1,{"$f":"JF!$F47","v":"SEN_NA"},{"$f":"IF(JF!$L47=1,3,0)+IF(JF!$L47=2,2,0)+IF(JF!$L47=3,1,0)","v":3}]
[76,"Nickels","Leny","LN","f","CAD_AFF",2,15.8,15.8,15.9,{"$f":"IF(SUM(JF!$H48:$J48)=0,\"\",SUM(JF!$H48:$J48))","v":47.5},6,{"$f":"JF!$F48","v":"CAD_AFF"},{"$f":"IF(JF!$L48=1,3,0)+IF(JF!$L48=2,2,0)+IF(JF!$L48=3,1,0)","v":0}]
[55,"Remy","Anna","LN","f","MIN_AFF",2,8.5500000000000007,13.2,12.5,{"$f":"IF(SUM(JF!$H49:$J49)=0,\"\",SUM(JF!$H49:$J49))","v":34.25},11,{"$f":"JF!$F49","v":"MIN_AFF"},{"$f":"IF(JF!$L49=1,3,0)+IF(JF!$L49=2,2,0)+IF(JF!$L49=3,1,0)","v":0}]
[22,"Desquiotz","Hannah","LAML","f","MIN_AFF",3,15.25,15.4,15.6,{"$f":"IF(SUM(JF!$H50:$J50)=0,\"\",SUM(JF!$H50:$J50))","v":46.25},5,{"$f":"JF!$F50","v":"MIN_AFF"},{"$f":"IF(JF!$L50=1,3,0)+IF(JF!$L50=2,2,0)+IF(JF!$L50=3,1,0)","v":0}]
[69,"Emina","Antonia","LAML","f","MIN_AFF",3,12,13.8,null,{"$f":"IF(SUM(JF!$H51:$J51)=0,\"\",SUM(JF!$H51:$J51))","v":25.8},20,{"$f":"JF!$F51","v":"MIN_AFF"},{"$f":"IF(JF!$L51=1,3,0)+IF(JF!$L51=2,2,0)+IF(JF!$L51=3,1,0)","v":0}]
[33,"Montana","Julia","LAML","f","MIN_AFF",3,12.35,13,13,{"$f":"IF(SUM(JF!$H52:$J52)=0,\"\",SUM(JF!$H52:$J52))","v":38.35},10,{"$f":"JF!$F52","v":"MIN_AFF"},{"$f":"IF(JF!$L52=1,3,0)+IF(JF!$L52=2,2,0)+IF(JF!$L52=3,1,0)","v":0}]
[17,"Zastawnik","Eva","LAML","f","MIN_AFF",3,12.25,12.5,null,{"$f":"IF(SUM(JF!$H53:$J53)=0,\"\",SUM(JF!$H53:$J53))","v":24.75},21,{"$f":"JF!$F53","v":"MIN_AFF"},{"$f":"IF(JF!$L53=1,3,0)+IF(JF!$L53=2,2,0)+IF(JF!$L53=3,1,0)","v":0}]
[25,"Betry","Emma","LAML","f","CAD_AFF",3,14.2,14.6,15.6,{"$f":"IF(SUM(JF!$H54:$J54)=0,\"\",SUM(JF!$H54:$J54))","v":44.4},7,{"$f":"JF!$F54","v":"CAD_AFF"},{"$f":"IF(JF!$L54=1,3,0)+IF(JF!$L54=2,2,0)+IF(JF!$L54=3,1,0)","v":0}]
[31,"Pasqualoni","Nora","LAML","f","MIN_AFF",3,11.35,11.9,null,{"$f":"IF(SUM(JF!$H55:$J55)=0,\"\",SUM(JF!$H55:$J55))","v":23.25},22,{"$f":"JF!$F55","v":"MIN_AFF"},{"$f":"IF(JF!$L55=1,3,0)+IF(JF!$L55=2,2,0)+IF(JF!$L55=3,1,0)","v":0}]
[74,"Scholtus","Loredana","ALR","f","CAD_AFF",3,10.7,13.6,15.45,{"$f":"IF(SUM(JF!$H56:$J56)=0,\"\",SUM(JF!$H56:$J56))","v":39.75},13,{"$f":"JF!$F56","v":"CAD_AFF"},{"$f":"IF(JF!$L56=1,3,0)+IF(JF!$L56=2,2,0)+IF(JF!$L56=3,1,0)","v":0}]
[68,"Lux","Ina","ALR","f","MIN_AFF",3,14.1,15.3,16,{"$f":"IF(SUM(JF!$H57:$J57)=0,\"\",SUM(JF!$H57:$J57))","v":45.4},6,{"$f":"JF!$F57","v":"MIN_AFF"},{"$f":"IF(JF!$L57=1,3,0)+IF(JF!$L57=2,2,0)+IF(JF!$L57=3,1,0)","v":0}]
[7,"Lopes","Ana","ALR","f","MIN_NA",3,null,14.3,14.3,{"$f":"IF(SUM(JF!$H58:$J58)=0,\"\",SUM(JF!$H58:$J58))","v":28.6},1,{"$f":"JF!$F58","v":"MIN_NA"},{"$f":"IF(JF!$L58=1,3,0)+IF(JF!$L58=2,2,0)+IF(JF!$L58=3,1,0)","v":3}]
[8,"Kaiser","Jyl","ALR","f","CAD_NA",3,null,14.7,15.7,{"$f":"IF(SUM(JF!$H59:$J59)=0,\"\",SUM(JF!$H59:$J59))","v":30.4},1,{"$f":"JF!$F59","v":"CAD_NA"},{"$f":"IF(JF!$L59=1,3,0)+IF(JF!$L59=2,2,0)+IF(JF!$L59=3,1,0)","v":3}]
[75,"Krack","Célina","ALR","f","MIN_AFF",3,12.3,13.2,15,{"$f":"IF(SUM(JF!$H60:$J60)=0,\"\",SUM(JF!$H60:$J60))","v":40.5},9,{"$f":"JF!$F60","v":"MIN_AFF"},{"$f":"IF(JF!$L60=1,3,0)+IF(JF!$L60=2,2,0)+IF(JF!$L60=3,1,0)","v":0}]
[14,"De Vos","Laetitia","ALR","f","MIN_NA",3,null,13,13.9,{"$f":"IF(SUM(JF!$H61:$J61)=0,\"\",SUM(JF!$H61:$J61))","v":26.9},2,{"$f":"JF!$F61","v":"MIN_NA"},{"$f":"IF(JF!$L61=1,3,0)+IF(JF!$L61=2,2,0)+IF(JF!$L61=3,1,0)","v":2}]
[23,"Krakowiak","Emilia","ALR","f","JUN_NA",3,null,13.8,13.6,{"$f":"IF(SUM(JF!$H62:$J62)=0,\"\",SUM(JF!$H62:$J62))","v":27.4},1,{"$f":"JF!$F62","v":"JUN_NA"},{"$f":"IF(JF!$L62=1,3,0)+IF(JF!$L62=2,2,0)+IF(JF!$L62=3,1,0)","v":3}]
[null,"Jedrisiak","Jo","ALR","f","CAD_NA",3,null,12.5,13.35,{"$f":"IF(SUM(JF!$H63:$J63)=0,\"\",SUM(JF!$H63:$J63))","v":25.85},4,{"$f":"JF!$F63","v":"CAD_NA"},{"$f":"IF(JF!$L63=1,3,0)+IF(JF!$L63=2,2,0)+IF(JF!$L63=3,1,0)","v":0}]
[null,"Maton","Phoebe","LGL","f","CAD_NA",3,null,13.6,11.4,{"$f":"IF(SUM(JF!$H64:$J64)=0,\"\",SUM(JF!$H64:$J64))","v":25},7,{"$f":"JF!$F64","v":"CAD_NA"},{"$f":"IF(JF!$L64=1,3,0)+IF(JF!$L64=2,2,0)+IF(JF!$L64=3,1,0)","v":0}]
[null,"Georgen","Lili","LGL","f","CAD_AFF",3,14,15.7,15.8,{"$f":"IF(SUM(JF!$H65:$J65)=0,\"\",SUM(JF!$H65:$J65))","v":45.5},7,{"$f":"JF!$F65","v":"CAD_AFF"},{"$f":"IF(JF!$L65=1,3,0)+IF(JF!$L65=2,2,0)+IF(JF!$L65=3,1,0)","v":0}]
[null,"Ries","Louise","LGL","f","MIN_NA",3,null,12.7,11.1,{"$f":"IF(SUM(JF!$H66:$J66)=0,\"\",SUM(JF!$H66:$J66))","v":23.799999999999997},3,{"$f":"JF!$F66","v":"MIN_NA"},{"$f":"IF(JF!$L66=1,3,0)+IF(JF!$L66=2,2,0)+IF(JF!$L66=3,1,0)","v":1}]
[null,"Hobscheid","Lily","LGL","f","MIN_AFF",3,12.75,12.7,14.1,{"$f":"IF(SUM(JF!$H67:$J67)=0,\"\",SUM(JF!$H67:$J67))","v":39.549999999999997},10,{"$f":"JF!$F67","v":"MIN_AFF"},{"$f":"IF(JF!$L67=1,3,0)+IF(JF!$L67=2,2,0)+IF(JF!$L67=3,1,0)","v":0}]
[null,"Clemen","Laura","LGL","f","MIN_AFF",3,14.35,14.2,16,{"$f":"IF(SUM(JF!$H68:$J68)=0,\"\",SUM(JF!$H68:$J68))","v":44.55},{"$f":"IF(K68=\"\",\"\",1+SUMPRODUCT(($F$4:$F$62=F68)*($K$4:$K$62>K68)))","v":7},{"$f":"JF!$F68","v":"MIN_AFF"},{"$f":"IF(JF!$L68=1,3,0)+IF(JF!$L68=2,2,0)+IF(JF!$L68=3,1,0)","v":0}]
[null,"Favre Hoffeld","Charlotte","LGL","f","MIN_AFF",3,13.1,13,13.65,{"$f":"IF(SUM(JF!$H69:$J69)=0,\"\",SUM(JF!$H69:$J69))","v":39.75},10,{"$f":"JF!$F69","v":"MIN_AFF"},{"$f":"IF(JF!$L69=1,3,0)+IF(JF!$L69=2,2,0)+IF(JF!$L69=3,1,0)","v":0}]
[null,"Favre Hoffeld","Julie","LGL","f","MIN_AFF",3,12.35,12.4,13.5,{"$f":"IF(SUM(JF!$H70:$J70)=0,\"\",SUM(JF!$H70:$J70))","v":38.25},11,{"$f":"JF!$F70","v":"MIN_AFF"},{"$f":"IF(JF!$L70=1,3,0)+IF(JF!$L70=2,2,0)+IF(JF!$L70=3,1,0)","v":0}]
[null,"Peyer","Marie","LGL","f","MIN_AFF",3,13.95,13.2,15.8,{"$f":"IF(SUM(JF!$H71:$J71)=0,\"\",SUM(JF!$H71:$J71))","v":42.95},8,{"$f":"JF!$F71","v":"MIN_AFF"},{"$f":"IF(JF!$L71=1,3,0)+IF(JF!$L71=2,2,0)+IF(JF!$L71=3,1,0)","v":0}]
[null,"Botticelli","Lara","LJBM","f","MIN_AFF",3,14.3,14.6,16.8,{"$f":"IF(SUM(JF!$H72:$J72)=0,\"\",SUM(JF!$H72:$J72))","v":45.7},6,{"$f":"JF!$F72","v":"MIN_AFF"},{"$f":"IF(JF!$L72=1,3,0)+IF(JF!$L72=2,2,0)+IF(JF!$L72=3,1,0)","v":0}]
[null,"Cucukovic","Lidija","LJBM","f","CAD_NA",3,null,15.2,13.9,{"$f":"IF(SUM(JF!$H73:$J73)=0,\"\",SUM(JF!$H73:$J73))","v":29.1},3,{"$f":"JF!$F73","v":"CAD_NA"},{"$f":"IF(JF!$L73=1,3,0)+IF(JF!$L73=2,2,0)+IF(JF!$L73=3,1,0)","v":1}]
[null,"Pastoret","Lisa","SL","f","JUN_AFF",3,16.600000000000001,16.399999999999999,16.600000000000001,{"$f":"IF(SUM(JF!$H74:$J74)=0,\"\",SUM(JF!$H74:$J74))","v":49.6},1,{"$f":"JF!$F74","v":"JUN_AFF"},{"$f":"IF(JF!$L74=1,3,0)+IF(JF!$L74=2,2,0)+IF(JF!$L74=3,1,0)","v":3}]
[null,"Pires Ramos","Alexsandra","SL","f","MIN_AFF",3,16.8,16,16.5,{"$f":"IF(SUM(JF!$H75:$J75)=0,\"\",SUM(JF!$H75:$J75))","v":49.3},3,{"$f":"JF!$F75","v":"MIN_AFF"},{"$f":"IF(JF!$L75=1,3,0)+IF(JF!$L75=2,2,0)+IF(JF!$L75=3,1,0)","v":1}]
[null,null,null,null,null,null,null,null,null,null,{"$f":"IF(SUM(JF!$H76:$J76)=0,\"\",SUM(JF!$H76:$J76))","v":""},""]